BEGIN:VCALENDAR
VERSION:2.0
PRODID:-//Île de Montréal (06) - ECPv5.14.0.4//NONSGML v1.0//EN
CALSCALE:GREGORIAN
METHOD:PUBLISH
X-WR-CALNAME:Île de Montréal (06)
X-ORIGINAL-URL:https://iledemontreal.areq.lacsq.org
X-WR-CALDESC:évènements pour Île de Montréal (06)
REFRESH-INTERVAL;VALUE=DURATION:PT1H
X-Robots-Tag:noindex
X-PUBLISHED-TTL:PT1H
BEGIN:VTIMEZONE
TZID:America/Toronto
BEGIN:DAYLIGHT
TZOFFSETFROM:-0500
TZOFFSETTO:-0400
TZNAME:EDT
DTSTART:20260308T070000
END:DAYLIGHT
BEGIN:STANDARD
TZOFFSETFROM:-0400
TZOFFSETTO:-0500
TZNAME:EST
DTSTART:20261101T060000
END:STANDARD
END:VTIMEZONE
BEGIN:VEVENT
DTSTART;TZID=America/Toronto:20260407T000000
DTEND;TZID=America/Toronto:20260424T235900
DTSTAMP:20260423T104603
CREATED:20260324T204650Z
LAST-MODIFIED:20260406T150555Z
UID:1748-1775520000-1777075140@iledemontreal.areq.lacsq.org
SUMMARY:Les assemblées sectorielles
DESCRIPTION:Assemblées générales sectorielles \nLa personne présidente de votre secteur vous convoquera à l’assemblée générale sectorielle. Inscrivez dès maintenant la date de cette instance à votre agenda. \n23 avril 2026 . . . . . . .. .  Secteur A . . . . . . . . .  Ahuntsic-Est \n8 avril 2026 . . . . . . . .. .  Secteur F . . . . . . . . . . Jeanne-Mance \n9 avril 2026 . . . . . . .  . .  Secteur B . . . . . . . . . . Du Ruisseau-Raimbault \n17 avril 2026 . . . . . . .. .  Secteur D . . . . . . . . .  .De Lorimier \n15 avril 2026 . . . . . . . . . .Secteur H . . . . . . . . . . Du-Haut-de-l’Isle \n10 avril 2026 . . . . . . . . .  Secteur J . . . . . . .  . . . Pointe-de-l’Île \n10 avril 2026 . . . . . . . . .  Secteur M . . . . . . . .. . Angrignon \n24 avril 2026 . . . . . . . . .  Secteur N . . . . . . . .   . Ahuntsic-Ouest \nAu plaisir de vous y rencontrer\, \nGaétane Lebel
URL:https://iledemontreal.areq.lacsq.org/event/les-assemblees-sectorielles/
END:VEVENT
BEGIN:VEVENT
DTSTART;TZID=America/Toronto:20260430T093000
DTEND;TZID=America/Toronto:20260430T150000
DTSTAMP:20260423T104603
CREATED:20250223T162854Z
LAST-MODIFIED:20260324T203159Z
UID:1409-1777541400-1777561200@iledemontreal.areq.lacsq.org
SUMMARY:Convocation à l’assemblée générale régionale 2026
DESCRIPTION:L’assemblée générale régionale de l’AREQ\, région Île-de-Montréal\, se tiendra le jeudi 30 avril 2026\, à 9 h 30.\nCette assemblée marquera le début du triennat 2026-2029. Il y aura donc élection aux cinq postes du conseil exécutif régional : présidence\, 1re vice-présidence. 2e vice-présidence\, secrétariat et trésorerie.\nCe sera aussi l’occasion de constater l’état de réalisation du plan d’action 2025-2026 et de discuter des priorités régionales pour animer la vie associative 2026-2027. Les rapports d’activités des comités et le rapport financier vous seront présentés.\nEn participant à cette assemblée\, vous pourrez admirer des oeuvres de plusieurs artistes membres de l’AREQ.\nLe tirage de l’oeuvre « Coup de coeur » sera fait au profit de la Fondation Laure-Gaudreault.\nIl y aura aussi des tirages de prix de présence.\nLieu : Le Château Classique\, 6010\, boul. des Grandes-Prairies\, Saint-Léonard (au coin du boul. Lacordaire) (Station de métro Cadillac\, autobus ligne – 32 nord). Grand stationnement et ascenseur disponibles.\nCoût : 45 $. Comme plusieurs secteurs ont l’habitude de subventionner cette activité pour leurs membres\, le coût pourrait être moindre. Informez-vous.\nInscription : Avant le 17 avril 2026 auprès de la personne trésorière de votre secteur selon le mode de fonctionnement de chacun : chèque libellé à l’ordre du secteur ou virement et en mentionnant votre choix de menu : saumon ou poulet.\nJ’espère que vous participerez en grand nombre à cette assemblée.\nGaétane Lebel\, présidente
URL:https://iledemontreal.areq.lacsq.org/event/convocation-assemblee-generale-regionale-2025/
LOCATION:Château Classique\, 6010\, boul. des Grandes-Prairies\, Saint-Léonard\, H1P 1A5\, Canada
END:VEVENT
END:VCALENDAR