BEGIN:VCALENDAR
VERSION:2.0
PRODID:-//Île de Montréal (06) - ECPv5.14.0.4//NONSGML v1.0//EN
CALSCALE:GREGORIAN
METHOD:PUBLISH
X-WR-CALNAME:Île de Montréal (06)
X-ORIGINAL-URL:https://iledemontreal.areq.lacsq.org
X-WR-CALDESC:évènements pour Île de Montréal (06)
REFRESH-INTERVAL;VALUE=DURATION:PT1H
X-Robots-Tag:noindex
X-PUBLISHED-TTL:PT1H
BEGIN:VTIMEZONE
TZID:America/Toronto
BEGIN:DAYLIGHT
TZOFFSETFROM:-0500
TZOFFSETTO:-0400
TZNAME:EDT
DTSTART:20250309T070000
END:DAYLIGHT
BEGIN:STANDARD
TZOFFSETFROM:-0400
TZOFFSETTO:-0500
TZNAME:EST
DTSTART:20251102T060000
END:STANDARD
END:VTIMEZONE
BEGIN:VEVENT
DTSTART;TZID=America/Toronto:20250417T133000
DTEND;TZID=America/Toronto:20250417T163000
DTSTAMP:20260424T122312
CREATED:20250223T161023Z
LAST-MODIFIED:20250223T161138Z
UID:1399-1744896600-1744907400@iledemontreal.areq.lacsq.org
SUMMARY:Les femmes artistes au Canada
DESCRIPTION:Les femmes artistes au Canada \nSylvie Coutu\, historienne d’art récemment nominée « experte » par le ministère de la Culture et des Communications du Québec\, travaille depuis plus de 20 ans dans le champ de l’art au Québec. Son but est de partager avec passion et sans prétention ses connaissances et sa vision de l’histoire de l’art. À la suite des deux conférences présentées par Sylvie Coutu : La vie et l’œuvre du grand Jean Paul Riopelle\, peintre et sculpteur en mars 2023 et Les pionniers de l’Abstraction en novembre 2023\, le comité des arts récidive et invite de nouveau madame Coutu qui développera le thème : Les femmes artistes au Canada. \nDétails dans les Échos de l’île de janvier 2025   page 15 \n 
URL:https://iledemontreal.areq.lacsq.org/event/les-femmes-artistes-au-canada/
LOCATION:Institut culinaire St-Pius X\, 9955 ave Papineau\, Montréal\, Québec\, H2B1Z9\, Canada
END:VEVENT
END:VCALENDAR