BEGIN:VCALENDAR
VERSION:2.0
PRODID:-//Île de Montréal (06) - ECPv5.14.0.4//NONSGML v1.0//EN
CALSCALE:GREGORIAN
METHOD:PUBLISH
X-WR-CALNAME:Île de Montréal (06)
X-ORIGINAL-URL:https://iledemontreal.areq.lacsq.org
X-WR-CALDESC:évènements pour Île de Montréal (06)
REFRESH-INTERVAL;VALUE=DURATION:PT1H
X-Robots-Tag:noindex
X-PUBLISHED-TTL:PT1H
BEGIN:VTIMEZONE
TZID:America/Toronto
BEGIN:DAYLIGHT
TZOFFSETFROM:-0500
TZOFFSETTO:-0400
TZNAME:EDT
DTSTART:20250309T070000
END:DAYLIGHT
BEGIN:STANDARD
TZOFFSETFROM:-0400
TZOFFSETTO:-0500
TZNAME:EST
DTSTART:20251102T060000
END:STANDARD
END:VTIMEZONE
BEGIN:VEVENT
DTSTART;TZID=America/Toronto:20250423T133000
DTEND;TZID=America/Toronto:20250423T153000
DTSTAMP:20260424T122422
CREATED:20250223T162033Z
LAST-MODIFIED:20250223T162201Z
UID:1403-1745415000-1745422200@iledemontreal.areq.lacsq.org
SUMMARY:Visite des archives nationales du Québec
DESCRIPTION:Visite des archives nationales du Québec \nLe comité des hommes organise une visite aux Archives nationales du Québec (AnQ). Cette visite se tiendra le 23 avril 2025\, de 13 h 30 à 15 h 30 et s’adresse à toute personne intéressée par les archives. Les Archives nationales du Québec se situent au 535\, avenue Viger Est\, près de la station de métro Berri- UQAM. Cette visite vous permettra de connaître les services offerts par les AnQ. Ultérieurement\, lors de visites individuelles\, des professionnels pourraient vous aider à effectuer des recherches particulières\, historiques ou généalogiques. \nDétails dans les Échos de l’île de janvier 2025   page 16
URL:https://iledemontreal.areq.lacsq.org/event/visite-des-archives-nationales-du-quebec/
LOCATION:Archives nationales du Québec\, 535 avenue Viger Est\, Montréal\, Québec\, Canada
END:VEVENT
END:VCALENDAR