BEGIN:VCALENDAR
VERSION:2.0
PRODID:-//Île de Montréal (06) - ECPv5.14.0.4//NONSGML v1.0//EN
CALSCALE:GREGORIAN
METHOD:PUBLISH
X-WR-CALNAME:Île de Montréal (06)
X-ORIGINAL-URL:https://iledemontreal.areq.lacsq.org
X-WR-CALDESC:évènements pour Île de Montréal (06)
REFRESH-INTERVAL;VALUE=DURATION:PT1H
X-Robots-Tag:noindex
X-PUBLISHED-TTL:PT1H
BEGIN:VTIMEZONE
TZID:America/Toronto
BEGIN:DAYLIGHT
TZOFFSETFROM:-0500
TZOFFSETTO:-0400
TZNAME:EDT
DTSTART:20250309T070000
END:DAYLIGHT
BEGIN:STANDARD
TZOFFSETFROM:-0400
TZOFFSETTO:-0500
TZNAME:EST
DTSTART:20251102T060000
END:STANDARD
END:VTIMEZONE
BEGIN:VEVENT
DTSTART;TZID=America/Toronto:20250602T094500
DTEND;TZID=America/Toronto:20250602T133000
DTSTAMP:20260424T090018
CREATED:20250422T195312Z
LAST-MODIFIED:20250422T195312Z
UID:1426-1748857500-1748871000@iledemontreal.areq.lacsq.org
SUMMARY:Parcours Jeanne-Mance
DESCRIPTION:Parcours Jean-Mance\nÀ inscrire à votre agenda \nJe vous invite à vous joindre à moi\, dans le Vieux Montréal pour suivre les traces de Jeanne Mance. Une activité au profit de la Fondation Laure-Gaudreault. La prochaine visite aura lieu le 2 juin prochain\, à compter de 9 h 45. \nVeuillez vous inscrire auprès de votre guide\, Micheline Jourdain\, au 514 388-7045. Et spécifiez si vous souhaitez participer à un repas amical\, à la fin du parcours\, au restaurant Chez Suzette au 3 rue Saint-Paul Est. Carte avec des prix raisonnables. Menu individuel varié : crêpes\, sandwichs\, salades-repas et desserts. Vin\, bière et cidre. Laissez vos coordonnées téléphoniques en cas d’aléa météorologique. En cas de pluie\, l’activité sera remise au lendemain. \nDépart à 10 h sur la Place Royale\, musée de la Pointe-à-Callière. \nPour vous y rendre: \nEn métro: station Place d’Armes En autobus : 55 Sud aussi à cette station En voiture : stationnement payant sur la rue Saint-Laurent\, un peu au sud de la rue Notre-Dame. \nCoût : 20 $ \nSi vous devez annuler\, prière d’avertir le plus tôt possible. \n  \nOù peut bien être Jeanne Mance sur cette photo ? \nMicheline Jourdain\nSecteur Jeanne-Mance (06-F)
URL:https://iledemontreal.areq.lacsq.org/event/parcours-jeanne-mance/
LOCATION:Musée Pointe-à-Callière\, 350 Place Royale\, Montréal\, Québec\, H2Y3Y5\, Canada
END:VEVENT
END:VCALENDAR