BEGIN:VCALENDAR
VERSION:2.0
PRODID:-//Île de Montréal (06) - ECPv5.14.0.4//NONSGML v1.0//EN
CALSCALE:GREGORIAN
METHOD:PUBLISH
X-WR-CALNAME:Île de Montréal (06)
X-ORIGINAL-URL:https://iledemontreal.areq.lacsq.org
X-WR-CALDESC:évènements pour Île de Montréal (06)
REFRESH-INTERVAL;VALUE=DURATION:PT1H
X-Robots-Tag:noindex
X-PUBLISHED-TTL:PT1H
BEGIN:VTIMEZONE
TZID:America/Toronto
BEGIN:DAYLIGHT
TZOFFSETFROM:-0500
TZOFFSETTO:-0400
TZNAME:EDT
DTSTART:20250309T070000
END:DAYLIGHT
BEGIN:STANDARD
TZOFFSETFROM:-0400
TZOFFSETTO:-0500
TZNAME:EST
DTSTART:20251102T060000
END:STANDARD
END:VTIMEZONE
BEGIN:VEVENT
DTSTART;TZID=America/Toronto:20250307T113000
DTEND;TZID=America/Toronto:20250307T150000
DTSTAMP:20260424T122612
CREATED:20250223T153202Z
LAST-MODIFIED:20250223T154547Z
UID:1373-1741347000-1741359600@iledemontreal.areq.lacsq.org
SUMMARY:Journée internationale des droits des femmes
DESCRIPTION:Journée internationale des droits des femmes \nPour les femmes seulement\, un dîner afin de souligner ensemble toutes les solidarités féministes qui nous unissent\, qui sont venues à bout de tant d’inégalités et d’injustices et qui sont encore indispensables pour éviter les reculs qui nous menacent. Encore en lutte en 2025 ! \nDétails dans les Échos de l’île de janvier 2025   page 12
URL:https://iledemontreal.areq.lacsq.org/event/1373/
LOCATION:Restaurant Homa\, 6830 rue Hochelaga\, Montréal\, Québec\, H1N1Y4\, Canada
END:VEVENT
BEGIN:VEVENT
DTSTART;TZID=America/Toronto:20250321T130000
DTEND;TZID=America/Toronto:20250321T153000
DTSTAMP:20260424T122612
CREATED:20250223T154020Z
LAST-MODIFIED:20250223T155040Z
UID:1378-1742562000-1742571000@iledemontreal.areq.lacsq.org
SUMMARY:Conférence Encore en lutte en 2025!
DESCRIPTION:Sous le thème retenu par le Collectif du 8 mars 2025 : Encore en lutte en 2025 ! le comité de la condition des femmes\, appuyé par ses alliés du comité des hommes\, vous invite à souligner la Journée internationale des droits des femmes à deux moments. D’abord\, le vendredi 7 mars 2025 réservé exclusivement aux femmes\, un dîner collectif et le vendredi 21 mars 2025 offert à toutes et tous de l’AREQ- Montréal\, une conférence de la lauréate 2023 du prix Égalité Thérèse-Casgrain : Francine Duquet Ph. D. Madame Duquet est professeure au Département de sexologie à l’UQAM\, spécialisée dans l’éducation à la sexualité des enfants et des adolescents et dans la formation d’intervenantes et d’intervenants. Elle a conçu des formations pour les élèves du primaire et du secondaire et des formations s’adressant aux adultes qui interviennent auprès des jeunes\, au-delà des préjugés\, des interdits\, des non-dits. Vous êtes donc toutes et tous invités à cette conférence des plus intéressantes. \nDétails dans les Échos de l’île de janvier 2025   page 12
URL:https://iledemontreal.areq.lacsq.org/event/conference-encore-en-lutte-en-2025/
LOCATION:Institut culinaire St-Pius X\, 9955 ave Papineau\, Montréal\, Québec\, H2B1Z9\, Canada
END:VEVENT
END:VCALENDAR