BEGIN:VCALENDAR
VERSION:2.0
PRODID:-//Île de Montréal (06) - ECPv5.14.0.4//NONSGML v1.0//EN
CALSCALE:GREGORIAN
METHOD:PUBLISH
X-WR-CALNAME:Île de Montréal (06)
X-ORIGINAL-URL:https://iledemontreal.areq.lacsq.org
X-WR-CALDESC:évènements pour Île de Montréal (06)
REFRESH-INTERVAL;VALUE=DURATION:PT1H
X-Robots-Tag:noindex
X-PUBLISHED-TTL:PT1H
BEGIN:VTIMEZONE
TZID:America/Toronto
BEGIN:DAYLIGHT
TZOFFSETFROM:-0500
TZOFFSETTO:-0400
TZNAME:EDT
DTSTART:20260308T070000
END:DAYLIGHT
BEGIN:STANDARD
TZOFFSETFROM:-0400
TZOFFSETTO:-0500
TZNAME:EST
DTSTART:20261101T060000
END:STANDARD
END:VTIMEZONE
BEGIN:VEVENT
DTSTART;TZID=America/Toronto:20260306T113000
DTEND;TZID=America/Toronto:20260306T140000
DTSTAMP:20260423T153952
CREATED:20260211T190142Z
LAST-MODIFIED:20260211T192040Z
UID:1711-1772796600-1772805600@iledemontreal.areq.lacsq.org
SUMMARY:Dîner au restaurant Homa
DESCRIPTION:Journée internationale des droits des femmes \nDîner au restaurant Homa\, 6830\, rue Hochelaga \nInscription avant le 1er mars auprès de Doris Gagné : \n gagnedoris@hotmail.com ou au 514 797-1580.
URL:https://iledemontreal.areq.lacsq.org/event/diner-au-restaurant-homa/
LOCATION:Restaurant Homa\, 6830 rue Hochelaga\, Montréal\, Québec\, H1N1Y4\, Canada
END:VEVENT
BEGIN:VEVENT
DTSTART;TZID=America/Toronto:20260312T133000
DTEND;TZID=America/Toronto:20260312T153000
DTSTAMP:20260423T153952
CREATED:20251006T144812Z
LAST-MODIFIED:20260211T191008Z
UID:1618-1773322200-1773329400@iledemontreal.areq.lacsq.org
SUMMARY:Comité des arts - conférence
DESCRIPTION:2e Rendez-vous des arts \nCONFÉRENCE DE L’ARTISTE VERRIÈRE CAROLE FRÈVE\nau Café de la bibliothèque Ahuntsic \nMaximum: 40 personnes \nRéservation au plus tard le 5 mars 2026\n auprès de France Séguin :  514 353-6959     fseguin58@gmail.com
URL:https://iledemontreal.areq.lacsq.org/event/comite-des-arts-conference/
LOCATION:Bibliothèque Ahuntsic\, 10300 Lajeunesse\, Montréal\, Canada
END:VEVENT
BEGIN:VEVENT
DTSTART;TZID=America/Toronto:20260320T130000
DTEND;TZID=America/Toronto:20260320T163000
DTSTAMP:20260423T153952
CREATED:20260211T193430Z
LAST-MODIFIED:20260211T193430Z
UID:1721-1774011600-1774024200@iledemontreal.areq.lacsq.org
SUMMARY:Visite à la Biosphère
DESCRIPTION:Visite à la Biosphère\n160 Chemin du Tour de l’Isle\, Montréal\n\nRassemblement 13 h 15 à la sortie du métro Jean-Drapeau et 13 h 30 la visite\n\nPrix de groupe (15 personnes et +) Ayez le montant juste svp :\nAdulte 14\,25 $ \n65 ans et + 13\,50 $\n\nInscription: auprès de votre responsable du comité de l’environnement de votre secteur au plus \ntard le vendredi 13 mars 2026.
URL:https://iledemontreal.areq.lacsq.org/event/visite-a-la-biosphere/
LOCATION:Biosphère\, 160 Chemin du Tour de l’Isle\, Montréal\, Canada
END:VEVENT
END:VCALENDAR